BEGIN:VCALENDAR
VERSION:2.0
PRODID:-//hacksw/handcal//NONSGML v1.0//EN
CALSCALE:GREGORIAN
BEGIN:VEVENT
ORGANIZER;CN=Mondelēz International, Inc.:MAILTO:no-reply@mail.gcs-web.com
DTEND:
UID:6ea2ab47-5802-4803-bab7-f02608f9e083
DTSTAMP:1619282991
LOCATION:https://edge.media-server.com/mmc/p/i7tt4bqo
DESCRIPTION:Event Details http://ir.mondelezinternational.com/events/event-details/mondelez-international-report-q1-2021-financial-results\n\nWebcast: https://edge.media-server.com/mmc/p/i7tt4bqo
URL;VALUE=URI:https://edge.media-server.com/mmc/p/i7tt4bqo
SUMMARY:Mondelēz International, Inc. - Mondelēz International to Report Q1 2021 Financial Results
DTSTART:20210427T210000Z
END:VEVENT
END:VCALENDAR